BEGIN:VCALENDAR
VERSION:2.0
PRODID:-//lightgoldenrodyellow-parrot-959843.hostingersite.com - ECPv6.15.13.1//NONSGML v1.0//EN
CALSCALE:GREGORIAN
METHOD:PUBLISH
X-WR-CALNAME:lightgoldenrodyellow-parrot-959843.hostingersite.com
X-ORIGINAL-URL:https://ccav.org
X-WR-CALDESC:Events for lightgoldenrodyellow-parrot-959843.hostingersite.com
REFRESH-INTERVAL;VALUE=DURATION:PT1H
X-Robots-Tag:noindex
X-PUBLISHED-TTL:PT1H
BEGIN:VTIMEZONE
TZID:UTC
BEGIN:STANDARD
TZOFFSETFROM:+0000
TZOFFSETTO:+0000
TZNAME:UTC
DTSTART:20250101T000000
END:STANDARD
END:VTIMEZONE
BEGIN:VEVENT
DTSTART;VALUE=DATE:20260331
DTEND;VALUE=DATE:20260401
DTSTAMP:20260417T091541
CREATED:20260305T191516Z
LAST-MODIFIED:20260305T191516Z
UID:1561-1774915200-1775001599@ccav.org
SUMMARY:CCAV & Youth Center Closed
DESCRIPTION:CCAV and The Youth center will be closed On Tuesday March 31 in observance of Cesar Chavez Day.
URL:https://ccav.org/event/ccav-youth-center-closed-3/
CATEGORIES:Agency Closed
END:VEVENT
END:VCALENDAR